BEGIN:VCALENDAR
VERSION:2.0
PRODID:-//IRESU - ECPv6.15.20//NONSGML v1.0//EN
CALSCALE:GREGORIAN
METHOD:PUBLISH
X-ORIGINAL-URL:https://iresu.fr
X-WR-CALDESC:Évènements pour IRESU
REFRESH-INTERVAL;VALUE=DURATION:PT1H
X-Robots-Tag:noindex
X-PUBLISHED-TTL:PT1H
BEGIN:VTIMEZONE
TZID:Europe/Paris
BEGIN:DAYLIGHT
TZOFFSETFROM:+0100
TZOFFSETTO:+0200
TZNAME:CEST
DTSTART:20250330T010000
END:DAYLIGHT
BEGIN:STANDARD
TZOFFSETFROM:+0200
TZOFFSETTO:+0100
TZNAME:CET
DTSTART:20251026T010000
END:STANDARD
BEGIN:DAYLIGHT
TZOFFSETFROM:+0100
TZOFFSETTO:+0200
TZNAME:CEST
DTSTART:20260329T010000
END:DAYLIGHT
BEGIN:STANDARD
TZOFFSETFROM:+0200
TZOFFSETTO:+0100
TZNAME:CET
DTSTART:20261025T010000
END:STANDARD
BEGIN:DAYLIGHT
TZOFFSETFROM:+0100
TZOFFSETTO:+0200
TZNAME:CEST
DTSTART:20270328T010000
END:DAYLIGHT
BEGIN:STANDARD
TZOFFSETFROM:+0200
TZOFFSETTO:+0100
TZNAME:CET
DTSTART:20271031T010000
END:STANDARD
END:VTIMEZONE
BEGIN:VEVENT
DTSTART;VALUE=DATE:20261001
DTEND;VALUE=DATE:20261002
DTSTAMP:20260421T174330
CREATED:20250320T142112Z
LAST-MODIFIED:20260330T155740Z
UID:5153-1790812800-1790899199@iresu.fr
SUMMARY:AFGSU POST JAMU
DESCRIPTION:L’AFGSU POST JAMU est réservée aux médecins et infirmier(e)s ayant suivi l’intégralité des JAMU 2025 et permet de bénéficier d’une formation complémentaire en vue de l’obtention de l’Attestation de Formation aux Gestes et Soins d’Urgence de niveau 2. Celle ci a pour but d’acquérir les connaissances nécessaires à l’identification d’une urgence à caractère médical et à sa prise en charge en équipe en utilisant des techniques non-invasives en attendant l’arrivée de l’équipe médicale et la participation à la réponse aux urgences collectives et aux situations sanitaires exceptionnelles. \n» Télécharger le programme complet\n» Procéder à une inscription individuelle à cette formation\n» Inscrire un groupe pour une formation en entreprise par mail à info@iresu.fr ou en utilisant ce formulaire
URL:https://iresu.fr/event/afgsu-post-jamu-2026-10-01/
LOCATION:SAMU 92\, 104 Bld Raymond Poincaré\, Garches\, 92380\, France
CATEGORIES:Formations AFGSU
ATTACH;FMTTYPE=image/jpeg:https://iresu.fr/wp-content/uploads/2021/04/AFGSUPOSTJAMUBIS.jpg
END:VEVENT
END:VCALENDAR