BEGIN:VCALENDAR
VERSION:2.0
PRODID:-//IRESU - ECPv6.15.20//NONSGML v1.0//EN
CALSCALE:GREGORIAN
METHOD:PUBLISH
X-WR-CALNAME:IRESU
X-ORIGINAL-URL:https://iresu.fr
X-WR-CALDESC:Évènements pour IRESU
REFRESH-INTERVAL;VALUE=DURATION:PT1H
X-Robots-Tag:noindex
X-PUBLISHED-TTL:PT1H
BEGIN:VTIMEZONE
TZID:Europe/Paris
BEGIN:DAYLIGHT
TZOFFSETFROM:+0100
TZOFFSETTO:+0200
TZNAME:CEST
DTSTART:20250330T010000
END:DAYLIGHT
BEGIN:STANDARD
TZOFFSETFROM:+0200
TZOFFSETTO:+0100
TZNAME:CET
DTSTART:20251026T010000
END:STANDARD
BEGIN:DAYLIGHT
TZOFFSETFROM:+0100
TZOFFSETTO:+0200
TZNAME:CEST
DTSTART:20260329T010000
END:DAYLIGHT
BEGIN:STANDARD
TZOFFSETFROM:+0200
TZOFFSETTO:+0100
TZNAME:CET
DTSTART:20261025T010000
END:STANDARD
BEGIN:DAYLIGHT
TZOFFSETFROM:+0100
TZOFFSETTO:+0200
TZNAME:CEST
DTSTART:20270328T010000
END:DAYLIGHT
BEGIN:STANDARD
TZOFFSETFROM:+0200
TZOFFSETTO:+0100
TZNAME:CET
DTSTART:20271031T010000
END:STANDARD
END:VTIMEZONE
BEGIN:VEVENT
DTSTART;VALUE=DATE:20260609
DTEND;VALUE=DATE:20260610
DTSTAMP:20260421T140904
CREATED:20240717T132813Z
LAST-MODIFIED:20260309T121039Z
UID:4258-1780963200-1781049599@iresu.fr
SUMMARY:AFGSU 2 RECYCLAGE
DESCRIPTION:L’AFGSU – Recyclage est réservée au personnel déjà titulaire d’une AFGSU 1 ou 2 datant de moins de 4 ans. L’AFGSU 2 permet d’acquérir les connaissances nécessaires à l’identification d’une urgence à caractère médical et à sa prise en charge en équipe en utilisant des techniques non-invasives en attendant l’arrivée de l’équipe médicale et la participation à la réponse aux urgences collectives et aux situations sanitaires exceptionnelles. \n» Télécharger le programme complet\n» Procéder à une inscription individuelle à cette formation\n» Inscrire un groupe pour une formation en entreprise par mail à info@iresu.fr ou en utilisant ce formulaire
URL:https://iresu.fr/event/afgsu-2-recyclage-2026-06-09/
LOCATION:SAMU 92\, 104 Bld Raymond Poincaré\, Garches\, 92380\, France
CATEGORIES:Formations AFGSU
ATTACH;FMTTYPE=image/jpeg:https://iresu.fr/wp-content/uploads/2021/04/AFGSURECYCLAGEBIS.jpg
END:VEVENT
END:VCALENDAR